BEGIN:VCALENDAR
VERSION:2.0
PRODID:-//TYPO3/NONSGML Calendarize//EN
BEGIN:VEVENT
UID:calendarize-stadtradeln-2026-in-pfungstadt
DTSTAMP:20260421T171239Z
DTSTART;VALUE=DATE:20260822
DTEND;VALUE=DATE:20260912
SUMMARY:Stadtradeln 2026 in Pfungstadt
DESCRIPTION:
X-ALT-DESC;FMTTYPE=text/html:
LOCATION:
END:VEVENT
END:VCALENDAR
